BEGIN:VCALENDAR
VERSION:2.0
PRODID:-//Tukios.com/
BEGIN:VEVENT
UID:942f03b1-ecd7-4819-9458-3f1819cb8a64@www.fogelsanger-brickerfuneralhome.com
DTSTAMP:20260423T223534Z
DTSTART:20260509T150000Z
DTEND:20260509T160000Z
SUMMARY:Graveside Service
DESCRIPTION:
URL:https://www.fogelsanger-brickerfuneralhome.com/obituaries/ruth-meily
LOCATION: 8687 Newburg Road  Newburg PA 17240
GEO:40.1228579;-77.6041525
END:VEVENT
END:VCALENDAR