BEGIN:VCALENDAR
VERSION:2.0
PRODID:-//Tukios.com/
BEGIN:VEVENT
UID:3a4dfe98-20d3-4b3d-847c-d9560602e9c5@www.fogelsanger-brickerfuneralhome.com
DTSTAMP:20260422T014148Z
DTSTART:20260429T160000Z
DTEND:20260429T170000Z
SUMMARY:Visitation
DESCRIPTION:
URL:https://www.fogelsanger-brickerfuneralhome.com/obituaries/robert-mellott
LOCATION: 112 West King Street  Shippensburg PA 17257
GEO:40.0487248;-77.5245841
END:VEVENT
END:VCALENDAR