BEGIN:VCALENDAR
VERSION:2.0
PRODID:-//Tukios.com/
BEGIN:VEVENT
UID:ff497f15-5de7-46e6-b2fe-9e37e5fb8dd4@www.fogelsanger-brickerfuneralhome.com
DTSTAMP:20260422T014848Z
DTSTART:20260429
SUMMARY:Burial
DESCRIPTION:
URL:https://www.fogelsanger-brickerfuneralhome.com/obituaries/robert-mellott
LOCATION: 2509 Black Gap Road  Chambersburg PA 17202
GEO:39.9481252;-77.5624345
END:VEVENT
END:VCALENDAR