BEGIN:VCALENDAR
VERSION:2.0
PRODID:-//Tukios.com/
BEGIN:VEVENT
UID:f8c0fdd8-cde5-47b0-ae29-24096fdc2e18@www.fogelsanger-brickerfuneralhome.com
DTSTAMP:20260422T014715Z
DTSTART:20260429T170000Z
DTEND:20260429T180000Z
SUMMARY:Funeral Service
DESCRIPTION:
URL:https://www.fogelsanger-brickerfuneralhome.com/obituaries/robert-mellott
LOCATION: 112 West King Street  Shippensburg PA 17257
GEO:40.0487248;-77.5245841
END:VEVENT
END:VCALENDAR