BEGIN:VCALENDAR
VERSION:2.0
PRODID:-//Tukios.com/
BEGIN:VEVENT
UID:19093386-2be7-4ca8-aa8a-0422cc171529@www.fogelsanger-brickerfuneralhome.com
DTSTAMP:20260425T002620Z
DTSTART:20260501
SUMMARY:Interment
DESCRIPTION:
URL:https://www.fogelsanger-brickerfuneralhome.com/obituaries/mary-chamberlin
LOCATION: 1095 Ridge Road  Shippensburg PA 17257
GEO:39.9747907;-77.4588962
END:VEVENT
END:VCALENDAR