BEGIN:VCALENDAR
VERSION:2.0
PRODID:-//Tukios.com/
BEGIN:VEVENT
UID:39fd4917-f608-43b8-9bf0-85f486491686@www.fogelsanger-brickerfuneralhome.com
DTSTAMP:20260425T001734Z
DTSTART:20260501T150000Z
DTEND:20260501T160000Z
SUMMARY:Funeral Service
DESCRIPTION:
URL:https://www.fogelsanger-brickerfuneralhome.com/obituaries/mary-chamberlin
LOCATION: 1095 Ridge Rd  Shippensburg PA 17257
GEO:40.1012841;-77.5344815
END:VEVENT
END:VCALENDAR