BEGIN:VCALENDAR
VERSION:2.0
PRODID:-//Tukios.com/
BEGIN:VEVENT
UID:99a2672e-bfc7-4701-ac5e-68e8a6c768a2@www.fogelsanger-brickerfuneralhome.com
DTSTAMP:20260425T002405Z
DTSTART:20260501T140000Z
DTEND:20260501T150000Z
SUMMARY:Viewing
DESCRIPTION:
URL:https://www.fogelsanger-brickerfuneralhome.com/obituaries/mary-chamberlin
LOCATION: 1095 Ridge Rd  Shippensburg PA 17257
GEO:40.1012841;-77.5344815
END:VEVENT
END:VCALENDAR