BEGIN:VCALENDAR
VERSION:2.0
PRODID:-//Tukios.com/
BEGIN:VEVENT
UID:3cbb2a3c-f70b-4973-b5f1-82a28a2a2d94@www.fogelsanger-brickerfuneralhome.com
DTSTAMP:20260425T001735Z
DTSTART:20260430T210000Z
DTEND:20260430T230000Z
SUMMARY:Viewing
DESCRIPTION:
URL:https://www.fogelsanger-brickerfuneralhome.com/obituaries/mary-chamberlin
LOCATION: 112 West King Street  Shippensburg PA 17257
GEO:40.0487248;-77.5245841
END:VEVENT
END:VCALENDAR