BEGIN:VCALENDAR
VERSION:2.0
PRODID:-//Tukios.com/
BEGIN:VEVENT
UID:12b42469-6edb-4146-ab73-0830578057b8@www.fogelsanger-brickerfuneralhome.com
DTSTAMP:20260421T222448Z
DTSTART:20260424T180000Z
DTEND:20260424T190000Z
SUMMARY:Graveside Service
DESCRIPTION:
URL:https://www.fogelsanger-brickerfuneralhome.com/obituaries/louise-stouffer
LOCATION: 4162 Roxbury Road  Shippensburg PA 17257
GEO:40.0772211;-77.591321
END:VEVENT
END:VCALENDAR