BEGIN:VCALENDAR
VERSION:2.0
PRODID:-//Tukios.com/
BEGIN:VEVENT
UID:de1f2d40-34bb-4a95-9ca3-20c89b783633@www.fogelsanger-brickerfuneralhome.com
DTSTAMP:20260424T015127Z
DTSTART:20260430T170000Z
DTEND:20260430T180000Z
SUMMARY:Burial
DESCRIPTION:
URL:https://www.fogelsanger-brickerfuneralhome.com/obituaries/kayla-alexander-ronk
LOCATION:The Post Family Cemetery 4467 Indian Run Road  Salem WV 26426
GEO:39.3197117;-80.5345349
END:VEVENT
END:VCALENDAR