BEGIN:VCALENDAR
VERSION:2.0
PRODID:-//Tukios.com/
BEGIN:VEVENT
UID:b593a346-99ad-44e2-b6ff-84b357b7822f@www.fogelsanger-brickerfuneralhome.com
DTSTAMP:20260424T015721Z
DTSTART:20260429T210000Z
DTEND:20260429T220000Z
SUMMARY:Funeral Service
DESCRIPTION:
URL:https://www.fogelsanger-brickerfuneralhome.com/obituaries/kayla-alexander-ronk
LOCATION: 112 West King Street  Shippensburg PA 17257
GEO:40.0487248;-77.5245841
END:VEVENT
END:VCALENDAR