BEGIN:VCALENDAR
VERSION:2.0
PRODID:-//Tukios.com/
BEGIN:VEVENT
UID:159a8d29-d94b-41a9-bb14-3f7f72660e8f@www.fogelsanger-brickerfuneralhome.com
DTSTAMP:20260424T015704Z
DTSTART:20260429T190000Z
DTEND:20260429T210000Z
SUMMARY:Viewing
DESCRIPTION:
URL:https://www.fogelsanger-brickerfuneralhome.com/obituaries/kayla-alexander-ronk
LOCATION: 112 West King Street  Shippensburg PA 17257
GEO:40.0487248;-77.5245841
END:VEVENT
END:VCALENDAR