BEGIN:VCALENDAR
VERSION:2.0
PRODID:-//Tukios.com/
BEGIN:VEVENT
UID:b6e68ce8-2d18-413a-8e9c-8cc48991069a@www.fogelsanger-brickerfuneralhome.com
DTSTAMP:20260424T020016Z
DTSTART:20260428T170000Z
DTEND:20260428T220000Z
SUMMARY:Viewing
DESCRIPTION:
URL:https://www.fogelsanger-brickerfuneralhome.com/obituaries/kayla-alexander-ronk
LOCATION: 112 West King Street  Shippensburg PA 17257
GEO:40.0487248;-77.5245841
END:VEVENT
END:VCALENDAR