BEGIN:VCALENDAR
VERSION:2.0
PRODID:-//Tukios.com/
BEGIN:VEVENT
UID:1a511977-acf7-4eec-8e6d-2456d9fd26b5@www.fogelsanger-brickerfuneralhome.com
DTSTAMP:20260423T005400Z
DTSTART:20260428
SUMMARY:Burial
DESCRIPTION:with military honors conducted by The Minutemen of the 
	American Legion Post #223
URL:https://www.fogelsanger-brickerfuneralhome.com/obituaries/curits-cramer
LOCATION: 114 North Morris Street  Shippensburg PA 17257
GEO:40.0485077;-77.532227
END:VEVENT
END:VCALENDAR