BEGIN:VCALENDAR
VERSION:2.0
PRODID:-//Tukios.com/
BEGIN:VEVENT
UID:8eace2e2-adab-43ca-b961-7cd70f6c28e4@www.fogelsanger-brickerfuneralhome.com
DTSTAMP:20260423T010151Z
DTSTART:20260427T200000Z
DTEND:20260428T000000Z
SUMMARY:Viewing
DESCRIPTION:with Masonic Services at 7:30pm
URL:https://www.fogelsanger-brickerfuneralhome.com/obituaries/curits-cramer
LOCATION: 112 West King Street  Shippensburg PA 17257
GEO:40.0487248;-77.5245841
END:VEVENT
END:VCALENDAR