BEGIN:VCALENDAR
VERSION:2.0
PRODID:-//Tukios.com/
BEGIN:VEVENT
UID:07756b68-1a3c-4f27-b891-170b2afbefa6@www.fogelsanger-brickerfuneralhome.com
DTSTAMP:20260423T010014Z
DTSTART:20260428T140000Z
DTEND:20260428T150000Z
SUMMARY:Viewing
DESCRIPTION:
URL:https://www.fogelsanger-brickerfuneralhome.com/obituaries/curits-cramer
LOCATION: 203 North High Street  Newburg PA 17240
GEO:40.139944;-77.5542983
END:VEVENT
END:VCALENDAR