BEGIN:VCALENDAR
VERSION:2.0
PRODID:-//Tukios.com/
BEGIN:VEVENT
UID:b22ac396-a6c5-4e91-a9f6-e13424d5fe0f@www.fogelsanger-brickerfuneralhome.com
DTSTAMP:20260423T010014Z
DTSTART:20260428T150000Z
DTEND:20260428T160000Z
SUMMARY:Funeral Service
DESCRIPTION:
URL:https://www.fogelsanger-brickerfuneralhome.com/obituaries/curits-cramer
LOCATION: 203 North High Street  Newburg PA 17240
GEO:40.139944;-77.5542983
END:VEVENT
END:VCALENDAR